BEGIN:VCALENDAR
VERSION:2.0
PRODID:-//Sabre//Sabre VObject 4.5.7//EN
CALSCALE:GREGORIAN
BEGIN:VEVENT
UID:sabre-vobject-b50aa8d2-280f-4367-a632-45612343d007
DTSTAMP:20260420T124612Z
SUMMARY:Fahrrad Gottesdienst an Himmelfahrt
DTSTART;TZID=Europe/Berlin:20260514T090000
DTEND;TZID=Europe/Berlin:20260514T130000
ORGANIZER;CN=Ev.-Luth. Kirchengemeinde Westerrönfeld:MAILTO:kirchenbuero@l
 uther-kirche.net
LOCATION:Lutherkirche\, Am Kindergarten 1\, Westerrönfeld
GEO:54.281834;9.649494
DESCRIPTION:Fahrrad Gottesdienst Open Air an Himmelfahrt\n9 Uhr Start an de
 r Lutherkirche mit anschließender Fahrradtour
BEGIN:VALARM
TRIGGER;VALUE=DURATION:P1D
ACTION:DISPLAY
DESCRIPTION:Fahrrad Gottesdienst an Himmelfahrt
END:VALARM
END:VEVENT
END:VCALENDAR
