BEGIN:VCALENDAR
VERSION:2.0
PRODID:-//Sabre//Sabre VObject 4.5.7//EN
CALSCALE:GREGORIAN
BEGIN:VEVENT
UID:sabre-vobject-a5b99f63-8a81-4d89-8b6a-4b09a8254806
DTSTAMP:20260425T141357Z
SUMMARY:Gottesdienst mit Kirchkaffee
DTSTART;TZID=Europe/Berlin:20260517T100000
ORGANIZER;CN=Ev.-Luth. Kirchengemeinde Westerrönfeld:MAILTO:kirchenbuero@l
 uther-kirche.net
LOCATION:Lutherkirche\, Am Kindergarten 1\, Westerrönfeld
GEO:54.281834;9.649494
DESCRIPTION:Gottesdienst mit Kirchkaffee\n10 Uhr Gottesdienst in der Luther
 kirche
BEGIN:VALARM
TRIGGER;VALUE=DURATION:P1D
ACTION:DISPLAY
DESCRIPTION:Gottesdienst mit Kirchkaffee
END:VALARM
END:VEVENT
END:VCALENDAR
